BEGIN:VCALENDAR
VERSION:2.0
PRODID:icalendar-ruby
CALSCALE:GREGORIAN
BEGIN:VEVENT
DTSTAMP:20210122T075742Z
UID:0dbacfbe-ab0e-4644-8ee7-287432b17d9c
DTSTART;VALUE=DATE:20191010
DESCRIPTION:Property ID# 460884\, Locatoin: Ray White Rangiora\, Time: 4:00
 PM
SUMMARY:Auction for 
END:VEVENT
END:VCALENDAR
