BEGIN:VCALENDAR
VERSION:2.0
PRODID:icalendar-ruby
CALSCALE:GREGORIAN
BEGIN:VEVENT
DTSTAMP:20210122T075709Z
UID:62fa277a-513c-4070-8240-ec38a398e692
DTSTART;VALUE=DATE:20200828
DESCRIPTION:Property ID# 487035\, Time: 2:00PM
SUMMARY:Auction for 
END:VEVENT
END:VCALENDAR
