BEGIN:VCALENDAR
VERSION:2.0
PRODID:icalendar-ruby
CALSCALE:GREGORIAN
BEGIN:VEVENT
DTSTAMP:20210122T075723Z
UID:6ec2fbea-085a-4342-b694-8206bc16fa90
DTSTART;VALUE=DATE:20200916
DESCRIPTION:Property ID# 488241\, Time: 4:00PM
SUMMARY:Auction for 388 Rangiora Woodend Road
END:VEVENT
END:VCALENDAR
