BEGIN:VCALENDAR
VERSION:2.0
PRODID:icalendar-ruby
CALSCALE:GREGORIAN
BEGIN:VEVENT
DTSTAMP:20210122T075728Z
UID:4227e491-4d9d-4898-8ddd-ba15d1cb61e8
DTSTART;VALUE=DATE:20200923
DESCRIPTION:Property ID# 489219\, Time: 4:00PM
SUMMARY:Auction for 
END:VEVENT
END:VCALENDAR
