BEGIN:VCALENDAR
VERSION:2.0
PRODID:icalendar-ruby
CALSCALE:GREGORIAN
BEGIN:VEVENT
DTSTAMP:20210122T075707Z
UID:302b2390-c5ab-4c27-b10b-ac2ab7c15c8a
DTSTART;VALUE=DATE:20201022
DESCRIPTION:Property ID# 491652\, Locatoin: on site\, Time: 1:00PM
SUMMARY:Auction for 
END:VEVENT
END:VCALENDAR
