BEGIN:VCALENDAR
VERSION:2.0
PRODID:icalendar-ruby
CALSCALE:GREGORIAN
BEGIN:VEVENT
DTSTAMP:20210122T075719Z
UID:be95de26-a7a9-4ea7-b127-b5dbc9c2fd9d
DTSTART;VALUE=DATE:20201028
DESCRIPTION:Property ID# 491800\, Time: 4:00PM
SUMMARY:Auction for 465 Johns Road
END:VEVENT
END:VCALENDAR
