BEGIN:VCALENDAR
VERSION:2.0
PRODID:icalendar-ruby
CALSCALE:GREGORIAN
BEGIN:VEVENT
DTSTAMP:20210122T075739Z
UID:5a5bd34e-7d57-467b-bc9d-5eb8f7cb2902
DTSTART;VALUE=DATE:20201111
DESCRIPTION:Property ID# 493466\, Locatoin: Ray White Rangiora\, Conway Lan
 e\, Level 1\, 188 High Street\, Rangiora\, Time: 4:00PM
SUMMARY:Auction for 
END:VEVENT
END:VCALENDAR
