BEGIN:VCALENDAR
VERSION:2.0
PRODID:icalendar-ruby
CALSCALE:GREGORIAN
BEGIN:VEVENT
DTSTAMP:20210122T075716Z
UID:7b9e70bc-6a29-4102-b4f8-ddb20cfa68b2
DTSTART;VALUE=DATE:20201124
DESCRIPTION:Property ID# 493616\, Time: 4:00PM
SUMMARY:Auction for 235 West Denbie Lane
END:VEVENT
END:VCALENDAR
