BEGIN:VCALENDAR
VERSION:2.0
PRODID:icalendar-ruby
CALSCALE:GREGORIAN
BEGIN:VEVENT
DTSTAMP:20210122T075715Z
UID:dae000b3-5904-427f-a010-42f20b3784e5
DTSTART;VALUE=DATE:20201126
DESCRIPTION:Property ID# 494200\, Time: 4:00PM
SUMMARY:Auction for 124 Cullen Avenue
END:VEVENT
END:VCALENDAR
