BEGIN:VCALENDAR
VERSION:2.0
PRODID:icalendar-ruby
CALSCALE:GREGORIAN
BEGIN:VEVENT
DTSTAMP:20210122T075717Z
UID:134122a5-443d-47d8-90c7-789c1362837c
DTSTART;VALUE=DATE:20201125
DESCRIPTION:Property ID# 494465\, Locatoin: Russley Golf Club 428 Memorial 
 Avenue\, Time: 2:00PM
SUMMARY:Auction for 13 Scotswood Place
END:VEVENT
END:VCALENDAR
