BEGIN:VCALENDAR
VERSION:2.0
PRODID:icalendar-ruby
CALSCALE:GREGORIAN
BEGIN:VEVENT
DTSTAMP:20210122T075713Z
UID:5d8ca1c6-d9a7-4da2-967c-9ba0c2c987dd
DTSTART;VALUE=DATE:20201116
DESCRIPTION:Property ID# 495343\, Time: 4:00PM
SUMMARY:Auction for 1061 Tram Road
END:VEVENT
END:VCALENDAR
