BEGIN:VCALENDAR
VERSION:2.0
PRODID:icalendar-ruby
CALSCALE:GREGORIAN
BEGIN:VEVENT
DTSTAMP:20210122T075737Z
UID:d6814acb-696e-47b5-a8ef-ac6f3565acce
DTSTART;VALUE=DATE:20201204
DESCRIPTION:Property ID# 495450\, Time: 4:00PM
SUMMARY:Auction for 
END:VEVENT
END:VCALENDAR
