BEGIN:VCALENDAR
VERSION:2.0
PRODID:icalendar-ruby
CALSCALE:GREGORIAN
BEGIN:VEVENT
DTSTAMP:20210122T075736Z
UID:b0b4265d-b037-40ce-9bc0-9cf3d1b2edab
DTSTART;VALUE=DATE:20201210
DESCRIPTION:Property ID# 496338\, Locatoin: Ray White Rangiora\, Level 1 Co
 nway Building\, 188 High Street Rangiora\, Time: 4:00PM
SUMMARY:Auction for 
END:VEVENT
END:VCALENDAR
