BEGIN:VCALENDAR
VERSION:2.0
PRODID:icalendar-ruby
CALSCALE:GREGORIAN
BEGIN:VEVENT
DTSTAMP:20210122T075734Z
UID:5651c5ba-8f70-494b-9e40-31d00f90ecb0
DTSTART;VALUE=DATE:20201217
DESCRIPTION:Property ID# 496740\, Locatoin: Ray White Rangiora\, Level 1 Co
 nway Building\, 188 High Street\, Rangiora\, Time: 4:00PM
SUMMARY:Auction for 
END:VEVENT
END:VCALENDAR
