BEGIN:VCALENDAR
VERSION:2.0
PRODID:icalendar-ruby
CALSCALE:GREGORIAN
BEGIN:VEVENT
DTSTAMP:20210122T075733Z
UID:f1a53c94-4f74-4c03-9a2c-6dfe1e374c5e
DTSTART;VALUE=DATE:20201216
DESCRIPTION:Property ID# 497222\, Locatoin: Ray White Rangiora\, Level 1 Co
 nway Building\, 188 High Street Rangiora\, Time: 4:00PM
SUMMARY:Auction for 25a Church Street
END:VEVENT
END:VCALENDAR
