BEGIN:VCALENDAR
VERSION:2.0
PRODID:icalendar-ruby
CALSCALE:GREGORIAN
BEGIN:VEVENT
DTSTAMP:20210122T074536Z
UID:b0bc3e74-b6fe-49c0-9e08-0564d080d3e7
DTSTART;VALUE=DATE:20210218
DESCRIPTION:Property ID# 498634\, Time: 4:00PM
SUMMARY:Auction for 86 Davis Road
END:VEVENT
END:VCALENDAR
