BEGIN:VCALENDAR
VERSION:2.0
PRODID:icalendar-ruby
CALSCALE:GREGORIAN
BEGIN:VEVENT
DTSTAMP:20210122T074538Z
UID:e5e154e8-03e1-455f-ae36-7ed44a364102
DTSTART;VALUE=DATE:20210203
DESCRIPTION:Property ID# 499334\, Time: 4:00PM
SUMMARY:Auction for 103 Kippenberger Avenue
END:VEVENT
END:VCALENDAR
