BEGIN:VCALENDAR
VERSION:2.0
PRODID:icalendar-ruby
CALSCALE:GREGORIAN
BEGIN:VEVENT
DTSTAMP:20210122T075749Z
UID:2724e4c9-57f5-480c-8868-3d577062afb5
DTSTART;TZID=Pacific/Auckland:20210131T143000
DTEND;TZID=Pacific/Auckland:20210131T153000
DESCRIPTION:Property ID# 495153
SUMMARY:Openhome for 480 Cramptons Bush Road
END:VEVENT
END:VCALENDAR
