BEGIN:VCALENDAR
VERSION:2.0
PRODID:icalendar-ruby
CALSCALE:GREGORIAN
BEGIN:VEVENT
DTSTAMP:20210122T075748Z
UID:26d63601-978f-4421-a22b-afc32cd21d10
DTSTART;TZID=Pacific/Auckland:20210124T130000
DTEND;TZID=Pacific/Auckland:20210124T134500
DESCRIPTION:Property ID# 495154
SUMMARY:Openhome for 157 West Belt
END:VEVENT
END:VCALENDAR
