BEGIN:VCALENDAR
VERSION:2.0
PRODID:icalendar-ruby
CALSCALE:GREGORIAN
BEGIN:VEVENT
DTSTAMP:20210122T075753Z
UID:62b4c5e2-feb5-4f11-8f76-cee9471d4193
DTSTART;TZID=Pacific/Auckland:20210124T113000
DTEND;TZID=Pacific/Auckland:20210124T120000
DESCRIPTION:Property ID# 499333
SUMMARY:Openhome for 69 Douglas Road
END:VEVENT
END:VCALENDAR
