BEGIN:VCALENDAR
VERSION:2.0
PRODID:icalendar-ruby
CALSCALE:GREGORIAN
BEGIN:VEVENT
DTSTAMP:20210122T075658Z
UID:c7ca15f4-6138-462e-ae8a-ab3752e7ee02
DTSTART;TZID=Pacific/Auckland:20210123T131500
DTEND;TZID=Pacific/Auckland:20210123T134500
DESCRIPTION:Property ID# 499965
SUMMARY:Openhome for 14 Mill Road
END:VEVENT
END:VCALENDAR
