BEGIN:VCALENDAR
VERSION:2.0
PRODID:icalendar-ruby
CALSCALE:GREGORIAN
BEGIN:VEVENT
DTSTAMP:20210122T074544Z
UID:f61dbfb1-1b05-403f-8613-f3807d697786
DTSTART;TZID=Pacific/Auckland:20210124T120000
DTEND;TZID=Pacific/Auckland:20210124T124500
DESCRIPTION:Property ID# 499287
SUMMARY:Openhome for 15 Greenfield Mews
END:VEVENT
END:VCALENDAR
