BEGIN:VCALENDAR
VERSION:2.0
PRODID:icalendar-ruby
CALSCALE:GREGORIAN
BEGIN:VEVENT
DTSTAMP:20210122T074520Z
UID:6acb0824-3d6b-45c8-85d4-7a0666b33365
DTSTART;TZID=Pacific/Auckland:20210121T173000
DTEND;TZID=Pacific/Auckland:20210121T180000
DESCRIPTION:Property ID# 498164
SUMMARY:Openhome for 18 Wiltshire Village
END:VEVENT
END:VCALENDAR
