BEGIN:VCALENDAR
VERSION:2.0
PRODID:icalendar-ruby
CALSCALE:GREGORIAN
BEGIN:VEVENT
DTSTAMP:20210122T075745Z
UID:4e9c843f-f432-429d-8e92-ef1d137103b3
DTSTART;TZID=Pacific/Auckland:20210124T143000
DTEND;TZID=Pacific/Auckland:20210124T151500
DESCRIPTION:Property ID# 498972
SUMMARY:Openhome for 17 Seadown Crescent
END:VEVENT
END:VCALENDAR
