BEGIN:VCALENDAR
VERSION:2.0
PRODID:icalendar-ruby
CALSCALE:GREGORIAN
BEGIN:VEVENT
DTSTAMP:20260421T025853Z
UID:4c4e1c26-2239-4fc7-bc5c-dc0353a9723c
DTSTART;VALUE=DATE:20200606
DESCRIPTION:Property ID# 480303\, Locatoin: Online\, Time: 12:00PM
SUMMARY:Auction for 
END:VEVENT
END:VCALENDAR
