BEGIN:VCALENDAR
VERSION:2.0
PRODID:icalendar-ruby
CALSCALE:GREGORIAN
BEGIN:VEVENT
DTSTAMP:20260422T142129Z
UID:a0a63b15-aa72-493c-8a26-e13359ca4c88
DTSTART;VALUE=DATE:20210513
DESCRIPTION:Property ID# 507149\, Time: 4:00PM
SUMMARY:Auction for 
END:VEVENT
END:VCALENDAR
