BEGIN:VCALENDAR
VERSION:2.0
PRODID:icalendar-ruby
CALSCALE:GREGORIAN
BEGIN:VEVENT
DTSTAMP:20260419T213929Z
UID:731a0820-240c-4e6d-82ce-5b56cf1f5e18
DTSTART;VALUE=DATE:20210519
DESCRIPTION:Property ID# 508707\, Time: 12:00PM
SUMMARY:Auction for 
END:VEVENT
END:VCALENDAR
