BEGIN:VCALENDAR
VERSION:2.0
PRODID:icalendar-ruby
CALSCALE:GREGORIAN
BEGIN:VEVENT
DTSTAMP:20260421T025955Z
UID:103ee3c2-6d3c-48aa-b40d-1aec60c29668
DTSTART;VALUE=DATE:20211111
DESCRIPTION:Property ID# 519708\, Time: 4:00PM
SUMMARY:Auction for 
END:VEVENT
END:VCALENDAR
