BEGIN:VCALENDAR
VERSION:2.0
PRODID:icalendar-ruby
CALSCALE:GREGORIAN
BEGIN:VEVENT
DTSTAMP:20260423T115403Z
UID:d2537638-d40d-483c-b93a-9c6fdec5fcc7
DTSTART;VALUE=DATE:20240822
DESCRIPTION:Property ID# 579346\, Time: 12:00PM
SUMMARY:Auction for 
END:VEVENT
END:VCALENDAR
