BEGIN:VCALENDAR
VERSION:2.0
PRODID:icalendar-ruby
CALSCALE:GREGORIAN
BEGIN:VEVENT
DTSTAMP:20260421T085101Z
UID:48a14d66-5048-4cd9-b682-8d24c2b0c9a0
DTSTART;VALUE=DATE:20241121
DESCRIPTION:Property ID# 583731\, Locatoin: Ray White\, Level 1\, Conway Bu
 ilding\, 188 High Street\, Rangiora (unless sold prior)\, Time: 4:00PM
SUMMARY:Auction for 
END:VEVENT
END:VCALENDAR
