BEGIN:VCALENDAR
VERSION:2.0
PRODID:icalendar-ruby
CALSCALE:GREGORIAN
BEGIN:VEVENT
DTSTAMP:20260420T164423Z
UID:7d3826bc-44a9-4f47-b042-d5bdf6584327
DTSTART;TZID=Pacific/Auckland:20260419T110000
DTEND;TZID=Pacific/Auckland:20260419T113000
DESCRIPTION:Property ID# 605867
SUMMARY:Openhome for 151 Infinity Drive
END:VEVENT
END:VCALENDAR
