BEGIN:VCALENDAR
VERSION:2.0
PRODID:icalendar-ruby
CALSCALE:GREGORIAN
BEGIN:VEVENT
DTSTAMP:20260424T095301Z
UID:2f6eca83-139a-410b-a2c2-7e79d18a7c6a
DTSTART;TZID=Pacific/Auckland:20260426T130000
DTEND;TZID=Pacific/Auckland:20260426T133000
DESCRIPTION:Property ID# 601192
SUMMARY:Openhome for 31 Kingsbury Avenue
END:VEVENT
END:VCALENDAR
